BEGIN:VCALENDAR
VERSION:2.0
PRODID:-//ChamberMaster//Event Calendar 2.0//EN
METHOD:PUBLISH
X-PUBLISHED-TTL:P3D
REFRESH-INTERVAL:P3D
CALSCALE:GREGORIAN
BEGIN:VEVENT
DTSTART:20130910T220000Z
DTEND:20130911T000000Z
X-MICROSOFT-CDO-ALLDAYEVENT:FALSE
SUMMARY:After Hours @ Armstrong Coal
DESCRIPTION:Join us for an After Hours at the corporate office of Armstrong Coal.
X-ALT-DESC;FMTTYPE=text/html:Join us for an After Hours at the corporate office of Armstrong Coal.
LOCATION:407 Brown Road\, Madisonville
UID:e.1578.76
SEQUENCE:3
DTSTAMP:20260424T010134Z
URL:https://business.hopkinschamber.com/events/details/after-hours-armstrong-coal-09-10-2013-76
END:VEVENT

END:VCALENDAR
