BEGIN:VCALENDAR
VERSION:2.0
PRODID:-//ChamberMaster//Event Calendar 2.0//EN
METHOD:PUBLISH
X-PUBLISHED-TTL:P3D
REFRESH-INTERVAL:P3D
CALSCALE:GREGORIAN
BEGIN:VEVENT
DTSTART:20211021T223000Z
DTEND:20211022T010000Z
X-MICROSOFT-CDO-ALLDAYEVENT:FALSE
SUMMARY:7th Annual Happy Feet Sweet Feet Fall Fundraiser
DESCRIPTION:
X-ALT-DESC;FMTTYPE=text/html:
LOCATION:Danny Peyton Outdoor Education Center at Mahr Park
UID:e.1578.5192
SEQUENCE:3
DTSTAMP:20260421T150522Z
URL:https://business.hopkinschamber.com/events/details/7th-annual-happy-feet-sweet-feet-fall-fundraiser-5192
END:VEVENT

END:VCALENDAR
