BEGIN:VCALENDAR
VERSION:2.0
PRODID:-//ChamberMaster//Event Calendar 2.0//EN
METHOD:PUBLISH
X-PUBLISHED-TTL:P3D
REFRESH-INTERVAL:P3D
CALSCALE:GREGORIAN
BEGIN:VEVENT
DTSTART:20140701T230000Z
DTEND:20140702T010000Z
X-MICROSOFT-CDO-ALLDAYEVENT:FALSE
SUMMARY:4thFest: Praise in the Park
DESCRIPTION:This free outdoor concert features several local gospel music groups.
X-ALT-DESC;FMTTYPE=text/html:This free&nbsp\;outdoor concert&nbsp\;features several local gospel music groups.
LOCATION:On the lake stage at Madisonville City Park
UID:e.1578.438
SEQUENCE:3
DTSTAMP:20260422T024815Z
URL:https://business.hopkinschamber.com/events/details/4thfest-praise-in-the-park-07-01-2014-438
END:VEVENT

END:VCALENDAR
