BEGIN:VCALENDAR
VERSION:2.0
PRODID:-//ChamberMaster//Event Calendar 2.0//EN
METHOD:PUBLISH
X-PUBLISHED-TTL:P3D
REFRESH-INTERVAL:P3D
CALSCALE:GREGORIAN
BEGIN:VEVENT
DTSTART:20140703T000000Z
DTEND:20140703T030000Z
X-MICROSOFT-CDO-ALLDAYEVENT:FALSE
SUMMARY:4thFest Outdoor Movie Night: "The Lego Movie"
DESCRIPTION:Sponsored by Baptist Health Madisonville. Bring your lawn chairs and enjoy The Lego Movie with your family! Concessions will be available for purchase.
X-ALT-DESC;FMTTYPE=text/html:Sponsored by Baptist Health Madisonville. Bring your lawn chairs and enjoy <em>The Lego Movie </em>with your family! Concessions will be available for purchase.
LOCATION:Baptist Health Madisonville Wellness Park\, located between the hospital and Medical Associates Building B.
UID:e.1578.439
SEQUENCE:3
DTSTAMP:20260422T025449Z
URL:https://business.hopkinschamber.com/events/details/4thfest-outdoor-movie-night-the-lego-movie-07-02-2014-439
END:VEVENT

END:VCALENDAR
