BEGIN:VCALENDAR
VERSION:2.0
PRODID:-//ChamberMaster//Event Calendar 2.0//EN
METHOD:PUBLISH
X-PUBLISHED-TTL:P3D
REFRESH-INTERVAL:P3D
CALSCALE:GREGORIAN
BEGIN:VEVENT
DTSTART:20140705T130000Z
DTEND:20140706T030000Z
X-MICROSOFT-CDO-ALLDAYEVENT:FALSE
SUMMARY:4thFest iRecycle Regatta
DESCRIPTION:Float your boat made of recyclable materials at this fun event. A great time for the whole family!
X-ALT-DESC;FMTTYPE=text/html:Float your boat made of recyclable materials at this&nbsp\;fun event. A great time for the whole family!
LOCATION:Madisonville City Park Pool
UID:e.1578.441
SEQUENCE:3
DTSTAMP:20260422T023314Z
URL:https://business.hopkinschamber.com/events/details/4thfest-irecycle-regatta-07-05-2014-441
END:VEVENT

END:VCALENDAR
