BEGIN:VCALENDAR
VERSION:2.0
PRODID:-//ChamberMaster//Event Calendar 2.0//EN
METHOD:PUBLISH
X-PUBLISHED-TTL:P3D
REFRESH-INTERVAL:P3D
CALSCALE:GREGORIAN
BEGIN:VEVENT
DTSTART:20140706T000000Z
DTEND:20140706T020000Z
X-MICROSOFT-CDO-ALLDAYEVENT:FALSE
SUMMARY:4thFest free baseball: Madisonville Miners vs Hoptown Hoppers
DESCRIPTION:Enjoy a free night of collegiate baseball featuring our very own team\, the Madisonville Miners\, as they play the Hoptown Hoppers. Sponsored by Madisonville Lions Club\, Madisonville Noon Kiwanis\, and Madisonville Rotary Club.
X-ALT-DESC;FMTTYPE=text/html:Enjoy a free night of collegiate baseball featuring our very own team\, the Madisonville Miners\, as they play the Hoptown Hoppers. Sponsored by Madisonville Lions Club\, Madisonville Noon Kiwanis\, and Madisonville Rotary Club.
LOCATION:Elmer Kelley Stadium\, Madisonville City Park
UID:e.1578.442
SEQUENCE:3
DTSTAMP:20260425T191658Z
URL:https://business.hopkinschamber.com/events/details/4thfest-free-baseball-madisonville-miners-vs-hoptown-hoppers-07-05-2014-442
END:VEVENT

END:VCALENDAR
