BEGIN:VCALENDAR
VERSION:2.0
PRODID:-//ChamberMaster//Event Calendar 2.0//EN
METHOD:PUBLISH
X-PUBLISHED-TTL:P3D
REFRESH-INTERVAL:P3D
CALSCALE:GREGORIAN
BEGIN:VEVENT
DTSTART:20130704T010000Z
DTEND:20130704T030000Z
X-MICROSOFT-CDO-ALLDAYEVENT:FALSE
SUMMARY:4thFest Family Movie Night
DESCRIPTION:Free outdoor movie night featuring The Croods! Sponsored by Baptist Health. This is a new release. This prehistoric comedy adventure follows the world's first family as they embark on the journey of a lifetime when the cave that has always shielded them from danger is destroyed. Traveling across a spectacular landscape\, the family discovers an incredible new world filled with fantastic creatures   and their outlook is changed forever. Summary: PG   1hr 38min   Animation.  Director: Chris Sanders\n\n	Non-profit vendors will be selling concessions such as popcorn\, drinks\, cookies\, etc.
X-ALT-DESC;FMTTYPE=text/html:<div style="color: gray\;">\n	Free outdoor movie night featuring&nbsp\;<strong>The Croods! </strong>Sponsored by Baptist Health.&nbsp\;This is a new release.&nbsp\;This prehistoric comedy adventure follows the world&rsquo\;s first family as they embark on the journey of a lifetime when the cave that has always shielded them from danger is destroyed.&nbsp\;Traveling across a spectacular landscape\, the family discovers an incredible new world filled with fantastic creatures &mdash\; and their outlook is changed forever.&nbsp\;Summary: PG &middot\; 1hr 38min &middot\; Animation.&nbsp\; Director: Chris Sanders</div>\n<p style="color: gray\;">\n	Non-profit vendors will be selling concessions such as popcorn\, drinks\, cookies\, etc.</p>\n
LOCATION:Trover Wellness Park on the Baptist Health Madisonville Campus
UID:e.1578.56
SEQUENCE:3
DTSTAMP:20260422T190552Z
URL:https://business.hopkinschamber.com/events/details/4thfest-family-movie-night-07-03-2013-56
END:VEVENT

END:VCALENDAR
