BEGIN:VCALENDAR
VERSION:2.0
PRODID:-//ChamberMaster//Event Calendar 2.0//EN
METHOD:PUBLISH
X-PUBLISHED-TTL:P3D
REFRESH-INTERVAL:P3D
CALSCALE:GREGORIAN
BEGIN:VEVENT
DTSTART:20150630T230000Z
DTEND:20150630T230000Z
X-MICROSOFT-CDO-ALLDAYEVENT:FALSE
SUMMARY:4th Fest Praise in the Park
DESCRIPTION:Praise in the Park - This event will feature the Goodman Revival with Tanya Goodman Sykes\, Michael Sykes\, & Johnny Minick.
X-ALT-DESC;FMTTYPE=text/html:Praise in the Park - This event will feature the Goodman Revival with Tanya Goodman Sykes\, Michael Sykes\, &amp\; Johnny Minick.
LOCATION:Madisonville City Park lake-side stage
UID:e.1578.517
SEQUENCE:3
DTSTAMP:20260425T023638Z
URL:https://business.hopkinschamber.com/events/details/4th-fest-praise-in-the-park-06-30-2015-517
END:VEVENT

END:VCALENDAR
