BEGIN:VCALENDAR
VERSION:2.0
PRODID:-//ChamberMaster//Event Calendar 2.0//EN
METHOD:PUBLISH
X-PUBLISHED-TTL:P3D
REFRESH-INTERVAL:P3D
CALSCALE:GREGORIAN
BEGIN:VEVENT
DTSTART:20150701T223000Z
DTEND:20150701T223000Z
X-MICROSOFT-CDO-ALLDAYEVENT:FALSE
SUMMARY:4th Fest Outdoor Movie Night
DESCRIPTION:Outdoor movie night - Home\, a Dreamworks Production\, at the Wellness Park at Baptist Health Madisonville.  Sponsored by Baptist Health Madisonville. \n\nBring lawn chairs/blankets.\n\nFood Vendors will be available to purchase food.\n\nA bouncing house\, fire truck\, ambulance\, and the PHI Helicopter will be available.
X-ALT-DESC;FMTTYPE=text/html:Outdoor movie night - Home\, a Dreamworks Production\, at the Wellness Park at Baptist Health Madisonville.&nbsp\; Sponsored by Baptist Health Madisonville.&nbsp\;<br />\nBring lawn chairs/blankets.<br />\nFood Vendors will be available to purchase food.<br />\nA bouncing house\, fire truck\, ambulance\, and the PHI Helicopter will be available.
LOCATION:Baptist Health Madisonville Wellness Park
UID:e.1578.518
SEQUENCE:3
DTSTAMP:20260425T012855Z
URL:https://business.hopkinschamber.com/events/details/4th-fest-outdoor-movie-night-07-01-2015-518
END:VEVENT

END:VCALENDAR
