BEGIN:VCALENDAR
VERSION:2.0
PRODID:-//ChamberMaster//Event Calendar 2.0//EN
METHOD:PUBLISH
X-PUBLISHED-TTL:P3D
REFRESH-INTERVAL:P3D
CALSCALE:GREGORIAN
BEGIN:VEVENT
DTSTART:20150703T000000Z
DTEND:20150703T000000Z
X-MICROSOFT-CDO-ALLDAYEVENT:FALSE
SUMMARY:4th Fest Madisonville Miners vs Dubois Co Bombers
DESCRIPTION:Madisonville Miners vs Dubois Co Bombers
X-ALT-DESC;FMTTYPE=text/html:Madisonville Miners vs Dubois Co Bombers<br />\n&nbsp\;
LOCATION:Madisonville City Park Elmer Kelly Stadium
UID:e.1578.519
SEQUENCE:3
DTSTAMP:20260425T013008Z
URL:https://business.hopkinschamber.com/events/details/4th-fest-madisonville-miners-vs-dubois-co-bombers-07-02-2015-519
END:VEVENT

END:VCALENDAR
