BEGIN:VCALENDAR
VERSION:2.0
PRODID:-//ChamberMaster//Event Calendar 2.0//EN
METHOD:PUBLISH
X-PUBLISHED-TTL:P3D
REFRESH-INTERVAL:P3D
CALSCALE:GREGORIAN
BEGIN:VEVENT
DTSTART:20150705T010000Z
DTEND:20150705T010000Z
X-MICROSOFT-CDO-ALLDAYEVENT:FALSE
SUMMARY:4th Fest iRecycle Regatta
DESCRIPTION:Boats made of Recyclable materials.
X-ALT-DESC;FMTTYPE=text/html:Boats made of Recyclable materials.<br />\n&nbsp\;
LOCATION:Madisonville City Pool Park
UID:e.1578.520
SEQUENCE:3
DTSTAMP:20260425T012534Z
URL:https://business.hopkinschamber.com/events/details/4th-fest-irecycle-regatta-07-04-2015-520
END:VEVENT

END:VCALENDAR
