BEGIN:VCALENDAR
VERSION:2.0
PRODID:-//ChamberMaster//Event Calendar 2.0//EN
METHOD:PUBLISH
X-PUBLISHED-TTL:P3D
REFRESH-INTERVAL:P3D
CALSCALE:GREGORIAN
BEGIN:VEVENT
DTSTART:20150704T230000Z
DTEND:20150705T033000Z
X-MICROSOFT-CDO-ALLDAYEVENT:FALSE
SUMMARY:4th Fest Celebration at Madisonville City Park
DESCRIPTION:Celebration at Madisonville City Park. Activities include Bouncing B's\, food vendors\, and the beer garden.  The Downtown Band from Nashville\, TN will be performing from 7:30 - 10:30 p.m.  Fireworks show at 9:00 p.m.
X-ALT-DESC;FMTTYPE=text/html:Celebration at Madisonville City Park. Activities include Bouncing B&#39\;s\, food vendors\, and the beer garden.&nbsp\; The Downtown Band from Nashville\, TN will be performing from 7:30 - 10:30 p.m.&nbsp\; Fireworks show at 9:00 p.m.
LOCATION:Madisonville City Park
UID:e.1578.521
SEQUENCE:3
DTSTAMP:20260425T012813Z
URL:https://business.hopkinschamber.com/events/details/4th-fest-celebration-at-madisonville-city-park-07-04-2015-521
END:VEVENT

END:VCALENDAR
