BEGIN:VCALENDAR
VERSION:2.0
PRODID:-//ChamberMaster//Event Calendar 2.0//EN
METHOD:PUBLISH
X-PUBLISHED-TTL:P3D
REFRESH-INTERVAL:P3D
CALSCALE:GREGORIAN
BEGIN:VEVENT
DTSTART:20151125T123000Z
DTEND:20151125T140000Z
X-MICROSOFT-CDO-ALLDAYEVENT:FALSE
SUMMARY:41st Annual Farm City Breakfast
DESCRIPTION:41st Annual Farm City Breakfast
X-ALT-DESC;FMTTYPE=text/html:41st Annual Farm City Breakfast
LOCATION:Lighthouse Church
UID:e.1578.550
SEQUENCE:3
DTSTAMP:20260422T123803Z
URL:https://business.hopkinschamber.com/events/details/41st-annual-farm-city-breakfast-11-25-2015-550
END:VEVENT

END:VCALENDAR
