BEGIN:VCALENDAR
VERSION:2.0
PRODID:-//ChamberMaster//Event Calendar 2.0//EN
METHOD:PUBLISH
X-PUBLISHED-TTL:P3D
REFRESH-INTERVAL:P3D
CALSCALE:GREGORIAN
BEGIN:VEVENT
DTSTART:20141126T123000Z
DTEND:20141126T143000Z
X-MICROSOFT-CDO-ALLDAYEVENT:FALSE
SUMMARY:40th Annual Farm-City Breakfast
DESCRIPTION:Join us as we celebrate our agriculture community at the 40th Annual Farm-City Breakfast.
X-ALT-DESC;FMTTYPE=text/html:Join us as we celebrate our agriculture community at the 40th Annual Farm-City Breakfast.&nbsp\;&nbsp\;&nbsp\;
LOCATION:Greater Lighthouse Outreach Center 2860 N. Main\, Madisonville
UID:e.1578.476
SEQUENCE:3
DTSTAMP:20260421T212922Z
URL:https://business.hopkinschamber.com/events/details/40th-annual-farm-city-breakfast-11-26-2014-476
END:VEVENT

END:VCALENDAR
