BEGIN:VCALENDAR
VERSION:2.0
PRODID:-//ChamberMaster//Event Calendar 2.0//EN
METHOD:PUBLISH
X-PUBLISHED-TTL:P3D
REFRESH-INTERVAL:P3D
CALSCALE:GREGORIAN
BEGIN:VEVENT
DTSTART:20200118T200000Z
DTEND:20200118T220000Z
X-MICROSOFT-CDO-ALLDAYEVENT:FALSE
SUMMARY:38th Annual Dr. Martin Luther King Celebration
DESCRIPTION:Celebration of the Life of Dr. Martin Luther King
X-ALT-DESC;FMTTYPE=text/html:Celebration of the Life of Dr. Martin Luther King
LOCATION:Byrnes Auditorium\, 750 Laffoon St.
UID:e.1578.3888
SEQUENCE:3
DTSTAMP:20260422T024520Z
URL:https://business.hopkinschamber.com/events/details/38th-annual-dr-martin-luther-king-celebration-3888
END:VEVENT

END:VCALENDAR
