BEGIN:VCALENDAR
VERSION:2.0
PRODID:-//ChamberMaster//Event Calendar 2.0//EN
METHOD:PUBLISH
X-PUBLISHED-TTL:P3D
REFRESH-INTERVAL:P3D
CALSCALE:GREGORIAN
BEGIN:VEVENT
DTSTART;VALUE=DATE:20200418
DTEND;VALUE=DATE:20200419
TRANSP:TRANSPARENT
X-MICROSOFT-CDO-ALLDAYEVENT:TRUE
SUMMARY:29th Annual Home & Garden & Outdoor Living Show
DESCRIPTION:Over 60 exhibitors full of latest products
X-ALT-DESC;FMTTYPE=text/html:Over 60 exhibitors full of latest products
LOCATION:Ballard Convention Center
UID:e.1578.4139
SEQUENCE:3
DTSTAMP:20260421T214302Z
URL:https://business.hopkinschamber.com/events/details/29th-annual-home-garden-outdoor-living-show-4139
END:VEVENT

END:VCALENDAR
