BEGIN:VCALENDAR
VERSION:2.0
PRODID:-//ChamberMaster//Event Calendar 2.0//EN
METHOD:PUBLISH
X-PUBLISHED-TTL:P3D
REFRESH-INTERVAL:P3D
CALSCALE:GREGORIAN
BEGIN:VEVENT
DTSTART:20140412T140000Z
DTEND:20140412T220000Z
X-MICROSOFT-CDO-ALLDAYEVENT:FALSE
SUMMARY:23rd Annual Home & Garden Show
DESCRIPTION:Don't miss the Hopkins County Homebuilders 23rd annual Home & Garden Show - this year\, there are so many more reasons to attend! Discover the latest trends in home construction & remodeling as well as lawn\, garden\, and landscape care\, pools and home decor. Get lots of ideas for both inside and outside to make your house your dream home!  Come support Madisonville-North Hopkins and Hopkins County Central high schools' Agriculture students by purchasing your hanging baskets\, bedding and veggie plants...all at a 10% discount.
X-ALT-DESC;FMTTYPE=text/html:<div style="color: gray\;">\n	<span style="color: rgb(0\, 0\, 0)\;"><span style="font-size: 12px\;"><span style="font-family: arial\;">Don&#39\;t miss the Hopkins County Homebuilders 23rd annual Home &amp\; Garden Show - this year\, there are so many more reasons to attend! Discover the latest trends in home construction &amp\; remodeling as well as lawn\, garden\, and landscape care\, pools&nbsp\;and home decor. Get lots of ideas for both inside and outside to make your house your dream home!&nbsp\; Come support Madisonville-North Hopkins and Hopkins County Central high schools&#39\; Agriculture students by purchasing your hanging baskets\, bedding and veggie plants...all at a 10% discount.&nbsp\; </span></span></span></div>\n
LOCATION:Ballard Convention Center\, 605 E. Arch Street\, Madisonville
UID:e.1578.423
SEQUENCE:3
DTSTAMP:20260422T064907Z
URL:https://business.hopkinschamber.com/events/details/23rd-annual-home-garden-show-04-12-2014-423
END:VEVENT

END:VCALENDAR
