BEGIN:VCALENDAR
VERSION:2.0
PRODID:-//ChamberMaster//Event Calendar 2.0//EN
METHOD:PUBLISH
X-PUBLISHED-TTL:P3D
REFRESH-INTERVAL:P3D
CALSCALE:GREGORIAN
BEGIN:VEVENT
DTSTART:20160107T220000Z
DTEND:20160108T020000Z
X-MICROSOFT-CDO-ALLDAYEVENT:FALSE
SUMMARY:21st Annual Kentucky Chamber Day
DESCRIPTION:You're invited to the premier kick off of the legislative session.  21st Annual Kentucky Chamber Day.   Hear State Leaders.
X-ALT-DESC;FMTTYPE=text/html:You&#39\;re invited to the premier kick off of the legislative session.&nbsp\; 21st Annual Kentucky Chamber Day.&nbsp\;&nbsp\; Hear State Leaders.
LOCATION:Lexington Convention Center/Heritage Hall
UID:e.1578.562
SEQUENCE:3
DTSTAMP:20260422T095513Z
URL:https://business.hopkinschamber.com/events/details/21st-annual-kentucky-chamber-day-01-07-2016-562
END:VEVENT

END:VCALENDAR
